BEGIN:VCALENDAR
VERSION:2.0
PRODID:icalendar-ruby
CALSCALE:GREGORIAN
METHOD:PUBLISH
BEGIN:VEVENT
DTSTAMP:20260422T000614Z
UID:7-494154@centralunitedmethodist.com
DTSTART:20260916T230000Z
DTEND:20260917T000000Z
CLASS:PUBLIC
CREATED:20260421T182618
DESCRIPTION:
LAST-MODIFIED:20260421T182618
LOCATION:
SUMMARY:Choir Practice
URL;VALUE=URI:https://www.centralunitedmethodist.com/events/choir-practice/
 2026-09-16
END:VEVENT
END:VCALENDAR
