BEGIN:VCALENDAR
VERSION:2.0
PRODID:icalendar-ruby
CALSCALE:GREGORIAN
METHOD:PUBLISH
BEGIN:VEVENT
DTSTAMP:20260422T015736Z
UID:7-494555@centralunitedmethodist.com
DTSTART:20260923T230000Z
DTEND:20260924T000000Z
CLASS:PUBLIC
CREATED:20260421T210505
DESCRIPTION:
LAST-MODIFIED:20260421T210505
LOCATION:
SUMMARY:Choir Practice
URL;VALUE=URI:https://www.centralunitedmethodist.com/events/choir-practice/
 2026-09-23
END:VEVENT
END:VCALENDAR
