BEGIN:VCALENDAR
VERSION:2.0
PRODID:icalendar-ruby
CALSCALE:GREGORIAN
METHOD:PUBLISH
BEGIN:VEVENT
DTSTAMP:20260422T032801Z
UID:7-494556@centralunitedmethodist.com
DTSTART:20260930T230000Z
DTEND:20261001T000000Z
CLASS:PUBLIC
CREATED:20260421T210505
DESCRIPTION:
LAST-MODIFIED:20260421T210505
LOCATION:
SUMMARY:Choir Practice
URL;VALUE=URI:https://www.centralunitedmethodist.com/events/choir-practice/
 2026-09-30
END:VEVENT
END:VCALENDAR
