BEGIN:VCALENDAR
VERSION:2.0
PRODID:icalendar-ruby
CALSCALE:GREGORIAN
METHOD:PUBLISH
BEGIN:VEVENT
DTSTAMP:20260424T095615Z
UID:7-499371@centralunitedmethodist.com
DTSTART:20261028T230000Z
DTEND:20261029T000000Z
CLASS:PUBLIC
CREATED:20260423T224322
DESCRIPTION:
LAST-MODIFIED:20260423T224322
LOCATION:
SUMMARY:Choir Practice
URL;VALUE=URI:https://www.centralunitedmethodist.com/events/choir-practice/
 2026-10-28
END:VEVENT
END:VCALENDAR
