BEGIN:VCALENDAR
VERSION:2.0
PRODID:icalendar-ruby
CALSCALE:GREGORIAN
METHOD:PUBLISH
BEGIN:VEVENT
DTSTAMP:20260424T113244Z
UID:7-499372@centralunitedmethodist.com
DTSTART:20261105T000000Z
DTEND:20261105T010000Z
CLASS:PUBLIC
CREATED:20260423T224322
DESCRIPTION:
LAST-MODIFIED:20260423T224322
LOCATION:
SUMMARY:Choir Practice
URL;VALUE=URI:https://www.centralunitedmethodist.com/events/choir-practice/
 2026-11-04
END:VEVENT
END:VCALENDAR
