BEGIN:VCALENDAR
VERSION:2.0
PRODID:icalendar-ruby
CALSCALE:GREGORIAN
METHOD:PUBLISH
BEGIN:VEVENT
DTSTAMP:20260423T222126Z
UID:6-498421@centralunitedmethodist.com
DTSTART:20260802T143000Z
DTEND:20260802T160000Z
CLASS:PUBLIC
CREATED:20260423T165545
DESCRIPTION:
LAST-MODIFIED:20260423T165545
LOCATION:
SUMMARY:Worship Service
URL;VALUE=URI:https://www.centralunitedmethodist.com/events/worship-service
 --6/2026-08-02
END:VEVENT
END:VCALENDAR
