BEGIN:VCALENDAR
VERSION:2.0
PRODID:icalendar-ruby
CALSCALE:GREGORIAN
METHOD:PUBLISH
BEGIN:VEVENT
DTSTAMP:20260423T235641Z
UID:6-498824@centralunitedmethodist.com
DTSTART:20260809T143000Z
DTEND:20260809T160000Z
CLASS:PUBLIC
CREATED:20260423T194908
DESCRIPTION:
LAST-MODIFIED:20260423T194908
LOCATION:
SUMMARY:Worship Service
URL;VALUE=URI:https://www.centralunitedmethodist.com/events/worship-service
 --6/2026-08-09
END:VEVENT
END:VCALENDAR
