BEGIN:VCALENDAR
VERSION:2.0
PRODID:icalendar-ruby
CALSCALE:GREGORIAN
METHOD:PUBLISH
BEGIN:VEVENT
DTSTAMP:20260424T015720Z
UID:6-498825@centralunitedmethodist.com
DTSTART:20260816T143000Z
DTEND:20260816T160000Z
CLASS:PUBLIC
CREATED:20260423T194908
DESCRIPTION:
LAST-MODIFIED:20260423T194908
LOCATION:
SUMMARY:Worship Service
URL;VALUE=URI:https://www.centralunitedmethodist.com/events/worship-service
 --6/2026-08-16
END:VEVENT
END:VCALENDAR
