BEGIN:VCALENDAR
VERSION:2.0
PRODID:icalendar-ruby
CALSCALE:GREGORIAN
METHOD:PUBLISH
BEGIN:VEVENT
DTSTAMP:20260424T073257Z
UID:6-499230@centralunitedmethodist.com
DTSTART:20260906T143000Z
DTEND:20260906T160000Z
CLASS:PUBLIC
CREATED:20260423T224322
DESCRIPTION:
LAST-MODIFIED:20260423T224322
LOCATION:
SUMMARY:Worship Service
URL;VALUE=URI:https://www.centralunitedmethodist.com/events/worship-service
 --6/2026-09-06
END:VEVENT
END:VCALENDAR
