BEGIN:VCALENDAR
VERSION:2.0
PRODID:icalendar-ruby
CALSCALE:GREGORIAN
METHOD:PUBLISH
BEGIN:VEVENT
DTSTAMP:20260424T105632Z
UID:6-499232@centralunitedmethodist.com
DTSTART:20260920T143000Z
DTEND:20260920T160000Z
CLASS:PUBLIC
CREATED:20260423T224322
DESCRIPTION:
LAST-MODIFIED:20260423T224322
LOCATION:
SUMMARY:Worship Service
URL;VALUE=URI:https://www.centralunitedmethodist.com/events/worship-service
 --6/2026-09-20
END:VEVENT
END:VCALENDAR
