BEGIN:VCALENDAR
VERSION:2.0
PRODID:icalendar-ruby
CALSCALE:GREGORIAN
METHOD:PUBLISH
BEGIN:VEVENT
DTSTAMP:20260424T141602Z
UID:6-499636@centralunitedmethodist.com
DTSTART:20261004T143000Z
DTEND:20261004T160000Z
CLASS:PUBLIC
CREATED:20260424T081146
DESCRIPTION:
LAST-MODIFIED:20260424T081146
LOCATION:
SUMMARY:Worship Service
URL;VALUE=URI:https://www.centralunitedmethodist.com/events/worship-service
 --6/2026-10-04
END:VEVENT
END:VCALENDAR
