BEGIN:VCALENDAR
VERSION:2.0
PRODID:icalendar-ruby
CALSCALE:GREGORIAN
METHOD:PUBLISH
BEGIN:VEVENT
DTSTAMP:20260424T161759Z
UID:6-500039@centralunitedmethodist.com
DTSTART:20261011T143000Z
DTEND:20261011T160000Z
CLASS:PUBLIC
CREATED:20260424T110439
DESCRIPTION:
LAST-MODIFIED:20260424T110439
LOCATION:
SUMMARY:Worship Service
URL;VALUE=URI:https://www.centralunitedmethodist.com/events/worship-service
 --6/2026-10-11
END:VEVENT
END:VCALENDAR
