BEGIN:VCALENDAR
VERSION:2.0
PRODID:icalendar-ruby
CALSCALE:GREGORIAN
METHOD:PUBLISH
BEGIN:VEVENT
DTSTAMP:20260424T175635Z
UID:6-500442@centralunitedmethodist.com
DTSTART:20261018T143000Z
DTEND:20261018T160000Z
CLASS:PUBLIC
CREATED:20260424T135123
DESCRIPTION:
LAST-MODIFIED:20260424T135123
LOCATION:
SUMMARY:Worship Service
URL;VALUE=URI:https://www.centralunitedmethodist.com/events/worship-service
 --6/2026-10-18
END:VEVENT
END:VCALENDAR
