BEGIN:VCALENDAR
VERSION:2.0
PRODID:icalendar-ruby
CALSCALE:GREGORIAN
METHOD:PUBLISH
BEGIN:VEVENT
DTSTAMP:20260424T195201Z
UID:6-500443@centralunitedmethodist.com
DTSTART:20261025T143000Z
DTEND:20261025T160000Z
CLASS:PUBLIC
CREATED:20260424T135123
DESCRIPTION:
LAST-MODIFIED:20260424T135123
LOCATION:
SUMMARY:Worship Service
URL;VALUE=URI:https://www.centralunitedmethodist.com/events/worship-service
 --6/2026-10-25
END:VEVENT
END:VCALENDAR
